BEGIN:VCALENDAR
VERSION:2.0
PRODID:-//Pine River Sports Association - ECPv6.15.20//NONSGML v1.0//EN
CALSCALE:GREGORIAN
METHOD:PUBLISH
X-WR-CALNAME:Pine River Sports Association
X-ORIGINAL-URL:https://myprsa.org
X-WR-CALDESC:Events for Pine River Sports Association
REFRESH-INTERVAL;VALUE=DURATION:PT1H
X-Robots-Tag:noindex
X-PUBLISHED-TTL:PT1H
BEGIN:VTIMEZONE
TZID:America/Chicago
BEGIN:DAYLIGHT
TZOFFSETFROM:-0600
TZOFFSETTO:-0500
TZNAME:CDT
DTSTART:20230312T080000
END:DAYLIGHT
BEGIN:STANDARD
TZOFFSETFROM:-0500
TZOFFSETTO:-0600
TZNAME:CST
DTSTART:20231105T070000
END:STANDARD
BEGIN:DAYLIGHT
TZOFFSETFROM:-0600
TZOFFSETTO:-0500
TZNAME:CDT
DTSTART:20240310T080000
END:DAYLIGHT
BEGIN:STANDARD
TZOFFSETFROM:-0500
TZOFFSETTO:-0600
TZNAME:CST
DTSTART:20241103T070000
END:STANDARD
BEGIN:DAYLIGHT
TZOFFSETFROM:-0600
TZOFFSETTO:-0500
TZNAME:CDT
DTSTART:20250309T080000
END:DAYLIGHT
BEGIN:STANDARD
TZOFFSETFROM:-0500
TZOFFSETTO:-0600
TZNAME:CST
DTSTART:20251102T070000
END:STANDARD
END:VTIMEZONE
BEGIN:VEVENT
DTSTART;TZID=America/Chicago:20241202T180000
DTEND;TZID=America/Chicago:20241202T220000
DTSTAMP:20260419T110230
CREATED:20241024T004706Z
LAST-MODIFIED:20250413T231131Z
UID:10001250-1733162400-1733176800@myprsa.org
SUMMARY:Monday Small Bore
DESCRIPTION:Monday Small bore league
URL:https://myprsa.org/event/monday-small-bore/
LOCATION:PRSA Indoor Range\, 1535 N Cedar Street\, Richland Center\, WI\, 53581\, United States
ORGANIZER;CN="Dick Gutweiler":MAILTO:rifleshooter1@gmail.com
GEO:43.3487144;-90.3797912
X-APPLE-STRUCTURED-LOCATION;VALUE=URI;X-ADDRESS=PRSA Indoor Range 1535 N Cedar Street Richland Center WI 53581 United States;X-APPLE-RADIUS=500;X-TITLE=1535 N Cedar Street:geo:-90.3797912,43.3487144
END:VEVENT
END:VCALENDAR